Workbook

Sheet Содержание
A1: Приложение Б8.
A2: Содержание.
A3: Шаг 07. Диаграмма «Спагетти» (маршруты перемещений)
A4: У нас есть замеры времени перемещений из Шага 06. Теперь мы узнаем, где именно и сколько ходит сотрудник, какие маршруты самые длинные и где возникают лишние шаги. Это поможет сократить потери на перемещениях.
A5: № | B5: Лист | C5: Назначение | D5: Ссылка
A6: 1 | B6: Инструкция | C6: Прочитайте, чтобы понять, зачем рисовать маршруты, как подготовиться и как связать с хронометражем. | D6: перейти
A7: 2 | B7: Памятка наблюдателя | C7: Распечатайте и возьмите с собой на наблюдение. В ней – краткие правила и шпаргалка по условным обозначениям. | D7: перейти
A8: 3 | B8: Бланк (пустой) | C8: Распечатайте и нанесите планировку рабочей зоны. В таблице фиксируйте каждый маршрут. | D8: перейти
A9: 4 | B9: Спагетти_Пример 1 | C9: Посмотрите, как заполнили для диспетчера аварийной службы – чтобы не гадать, что и как рисовать. | D9: перейти
A10: 5 | B10: Спагетти_Пример 2 | C10: Посмотрите, как заполнили для процесса «Получение информации о работах в доме и обращение с проблемой» | D10: перейти
A11: 6 | B11: Спагетти_Пример 3 | C11: Посмотрите, как заполнили для процесса «Выполнение ППР (Офис-Объект №….п/п - Офис)» | D11: перейти
A12: 7 | B12: Чек-лист | C12: Проверьте себя перед тем, как перейти к анализу (Шаг 08 – Карта текущего состояния). | D12: перейти

Sheet Инструкция
A1: Инструкция
A2: Шаг 07. Как мы строим диаграмму «Спагетти»
A4: Зачем нам это нужно | C4: В Шаге 06 мы замерили время всех перемещений (ходьба, поездки). Теперь мы визуализируем маршруты – нарисуем на плане помещения/территории траектории движения сотрудника. Так мы увидим: • где сотрудник ходит чаще всего; • какие маршруты самые длинные; • где возникают лишние возвраты и петли; • сколько метров и минут «съедают» перемещения.
A7: Связь с хронометражем (Шаг 06) | C7: Мы уже знаем общее время перемещений (из сводки хронометража). Теперь мы измеряем расстояния и рисуем траектории. Вместе время и расстояние показывают полную картину потерь на перемещениях.
A9: Что нам понадобится | C9: 1. План/схема рабочей зоны (офис, цех, территория) с расположением оборудования, столов, дверей, складов.
C10: 2. Цветные карандаши / маркеры (разные цвета для разных сотрудников, если наблюдаем нескольких).
C11: 3. Рулетка или измерительное колесо – чтобы замерить длину маршрутов (если нет готовых размеров на плане).
C12: 4. Секундомер (можно использовать данные из хронометража, но если хотите перепроверить – замерьте время ещё раз).
C13: 5. Бланк диаграммы (распечатайте с листа «Бланк (пустой)»).
C14: 6. Блокнот для записей идей по улучшению.
A16: Как проводить наблюдение | C16: 1. Нанесите на бланк план рабочей зоны (или используйте готовый).
C17: 2. Выберите сотрудника (того же, за кем проводили хронометраж) и промежуток времени (например, 1 час).
C18: 3. Следуйте за сотрудником и каждый раз, когда он меняет своё местоположение, рисуйте линию от одной точки к другой на плане.
C19: 4. Обозначайте направление стрелками.
C20: 5. В таблице бланка записывайте: номер перемещения, откуда→куда, время (если замеряете), расстояние, и что делал в точке.
C21: 6. Если сотрудник останавливается (ожидает, разговаривает) – отметьте это точкой и напишите причину.
C22: 7. В конце суммируйте общее время и общее расстояние всех перемещений.
C23: 8. Выпишите выявленные проблемы (например, «много переходов между кабинетами из-за бумаг», «пустые хождения к доске объявлений») – они пригодятся на Шаге 09 (Регистрация проблем).
A25: Сколько наблюдений делать | C25: Достаточно одного наблюдения, чтобы увидеть типовые маршруты. Но если процесс сильно меняется (разные дни) – можно сделать 2–3 замера. Главное – чтобы маршруты были типовыми.
A27: Как измерить расстояние | C27: • Если на плане есть масштаб – пересчитайте по линейке.
C28: • Если нет – измерьте рулеткой реальное расстояние между точками и запишите.
C29: • Если перемещение за пределами офиса (например, поездка на объект) – укажите примерное расстояние (по карте или по одометру).
A31: Пример заполнения | C31: Посмотрите на листе «Пример заполнения», как это сделано для диспетчера.
D33: В начало
D34: Перейти к "Содержанию"

Sheet Памятка
A1: Диаграмма_Спагетти_памятка
A2: ПАМЯТКА НАБЛЮДАТЕЛЯ (возьмите с собой)
A4: 1. ДО НАБЛЮДЕНИЯ: | F4: КАК ВЫБИРАТЬ ТИП РАБОТЫ
A5: □ Распечатайте бланк и нанесите план рабочей зоны. □ Подготовьте цветные карандаши, рулетку, секундомер. □ Скажите сотруднику: «Я рисую маршруты, чтобы понять, как мы можем сократить лишние перемещения (ходьбу). Это не оценка вашей работы». □ Определите время наблюдения (например, 1 час). | F5: Тип работ по видам занятия | G5: Категории в шаблоне (Вид занятия) | H5: Пояснение
F6: Полезная/Значимая | G6: Выполнение операций | H6: Действия, напрямую создающие результат для жителя (приём звонка, регистрация, закрытие, ремонт, устранение аварии).
F7: Незначимая | G7: Непрофильная работа, Дополнительная работа, Заполнение журналов, Телефонные переговоры (если не связаны с прямым решением), Прием/сдача смены, Получение задания, Обслуживание оборудования, Очистка оборудования, Уборка оборудования, Визуальный осмотр оборудования | H7: Обязательные, но не создающие ценность напрямую.
F8: Ожидание/Уточнения | G8: Ожидание, Простой, Технический перерыв | H8: Время, когда процесс стоит.
A9: 2. ВО ВРЕМЯ НАБЛЮДЕНИЯ: | F9: Перемещения | G9: Перемещение | H9: Ходьба, поездки, переходы между рабочими местами.
A10: □ Каждое перемещение – новая линия на плане. □ Стрелка – направление. □ Точка – остановка (запишите причину). □ В таблице фиксируйте: №, откуда→куда, время, расстояние, комментарий. □ В таблице фиксируйте: палочкой "|" если происходит одно и тоже перемещение, количество "палочек" -это учет количества одинаковых перемещений. □ Если сотрудник выходит за пределы плана – сделайте пометку (например, «выезд на объект – 5 км»). □ Записывайте идеи по улучшению прямо в блокнот. | F10: Потери | G10: (нет прямой категории) | H10: Это все то, что не приносит ценность. Это все действия, которые являются препятствием для достижения результата.
F13: ЕСЛИ перемещения "ТУДА-СЮДА"
F14: "палочный учет" - вносите за каждое перемещение по определенному маршруту в графу знак "|", количество знаков будет соответствовать количеству перемещений
A19: 3. ПОСЛЕ НАБЛЮДЕНИЯ: | F19: ВАЖНО!
A20: □ Суммируйте общее время и расстояние. □ Выпишите основные проблемы (где больше всего ходьбы, что можно оптимизировать). □ Сравните с данными хронометража (Шаг 06) – они должны совпадать по времени перемещений. | F20: Сравните с данными хронометража (Шаг 06) – они должны совпадать по времени перемещений.
F26: ПРОБЛЕМЫ
A27: Главное правило: одна строка = одно действие или одно ожидание или одно перемещение. Не смешивайте действие, ожидание и перемещение в одной строке. | F27: Фиксируйте выявленные проблемы (например, «много переходов между кабинетами из-за бумаг», «пустые хождения к доске объявлений») – они пригодятся на Шаге 09 (Регистрация проблем).
H31: В начало
H32: Перейти к "Содержанию"

Sheet Бланк_пустой
B1: Бланк_пустой
B2: Диаграмма Спагетти
B4: Рабочая зона: | AD4: ФИО:
B5: Процесс: | AD5: Дата:
B7: Количество перемещений* | D7: Шаг | E7: Сотрудник | F7: Откуда-Куда | G7: Что делал/(а) | H7: Причина | I7: Время цикла (мин) | J7: Время перемещения (мин) | K7: Протяжённость перемещения (м) | L7: Планировка рабочей зоны (добавить оборудование и мебель)
F23: Суммарно:
B24: ПРОБЛЕМЫ
B26: 1 | D26: Частые походы к шкафу и принтеру – можно организовать рабочее место так, чтобы всё было под рукой.
B27: 2 | D27: Несколько переходов в кабинет мастера – можно заменить электронной передачей документов.
B28: 3 | D28: Общее время перемещений – 17 минут за час, это почти 30% рабочего времени.
B33: Условные обозначения: | I33: - проблемы | L33: Общее время цикла процесса (мин) | AC33: Время всех перемещений в цикле (мин) | AM33: Протяжённость всех перемещений (метрах)
B34: * - "палочный учет" - вносите за каждое перемещение по определенному маршруту в графу знак "|", количество знаков будет соответствовать количеству перемещений
AH37: В начало
AH39: Перейти к "Содержанию"

Sheet Спагетти_Пример 1
A1: Пример заполнения (для диспетчера аварийной службы, 1 час наблюдения)
E2: Диаграмма Спагетти
A4: Рабочая зона: | E4: Офис диспетчерской (20 м²) | Q4: Должность | R4: Диспетчер | U4: ФИО: | V4: Сологубова А.В.
A5: Процесс: | E5: Приём и регистрация аварийных заявок | Q5: Дата: | R5: 46035
A7: Количество перемещений* | C7: Шаг | D7: Сотрудник | E7: Откуда-Куда | F7: Что делал/(а) | G7: Причина | H7: Время цикла (мин) | I7: Время перемещения (мин) | J7: Протяжённость перемещения (м) | K7: Планировка рабочей зоны (добавить оборудование и мебель)
A9: | | B9: 1 | C9: 1-2 | D9: Диспетчер | E9: Стол диспетчера → шкаф с журналами | F9: Взял новый журнал | G9: Нужно зарегистрировать заявку | I9: 1 | J9: 3
A10: | | B10: 1 | C10: 2-3 | D10: Диспетчер | E10: Шкаф → стол | F10: Вернулся с журналом | G10: – | I10: 1 | J10: 3
A11: | | B11: 1 | C11: 3-4 | D11: Диспетчер | E11: Стол → принтер (в коридоре) | F11: Распечатал наряд мастеру | G11: Нужно передать мастеру бумажный вариант | I11: 0.5 | J11: 2
A12: | | B12: 1 | C12: 4-5 | D12: Диспетчер | E12: Принтер → стол мастера (другая комната) | F12: Отнёс наряд мастеру | G12: Устная передача | I12: 3 | J12: 15
A13: | | B13: 1 | C13: 5-6 | D13: Диспетчер | E13: Стол мастера → своё место | F13: Вернулся | G13: – | I13: 3 | J13: 15
A14: || | B14: 2 | C14: 6-7 | D14: Диспетчер | E14: Стол → шкаф (снова) | F14: Положил старый журнал | G14: Закончил работу с журналом | I14: 1 | J14: 3
A15: | | B15: 1 | C15: 7-8 | D15: Диспетчер | E15: Шкаф → стол | F15: Вернулся | G15: – | I15: 1 | J15: 3
A16: || | B16: 2 | C16: 8-9 | D16: Диспетчер | E16: Стол → принтер (снова) | F16: Забрал распечатанный отчёт | G16: – | I16: 0.5 | J16: 2
A17: || | B17: 2 | C17: 9-10 | D17: Диспетчер | E17: Принтер → стол мастера (снова) | F17: Отнёс отчёт | G17: Отчёт нужно подписать у мастера | I17: 3 | J17: 15
A18: | | B18: 1 | C18: 10-11 | D18: Диспетчер | E18: Стол мастера → своё место | I18: 3 | J18: 15
Q20: КОРИДОР
E40: Суммарно: | H40: =SUM(H9:H39) -> 0 | I40: =SUM(I9:I39) -> 17 | J40: =SUM(J9:J39) -> 76
A41: ПРОБЛЕМЫ
A43: 1 | C43: Частые походы к шкафу и принтеру – можно организовать рабочее место так, чтобы всё было под рукой.
A44: 2 | C44: Несколько переходов в кабинет мастера – можно заменить электронной передачей документов.
A45: 3 | C45: Общее время перемещений – 17 минут за час, это почти 30% рабочего времени.
A54: Условные обозначения: | H54: - проблемы | K54: Общее время цикла процесса (мин) | Q54: Время всех перемещений в цикле (мин) | T54: Протяжённость всех перемещений (метрах)
A55: * - "палочный учет" - вносите за каждое перемещение по определенному маршруту в графу знак "|", количество знаков будет соответствовать количеству перемещений | K55: =H40 -> 0 | Q55: =I40 -> 17 | T55: =J40 -> 76
Q59: Перейти к "Содержанию"

Sheet Спагетти_Пример_2
B1: ПРИМЕР 2
E2: Диаграмма Спагетти
A4: Рабочая зона: | E4: Офис Администрации-Объект №….п/п - Офис) | P4: Житель | S4: ФИО: | T4: Полынцева О.А.
A5: Процесс: | E5: «Получение информации о работах в доме и обращение с проблемой» | O5: Дата: | P5: 46127
A7: Количество перемещений* | C7: Шаг | D7: Сотрудник | E7: Шаги процесса (Маршруты Жителя ) | F7: Время операции (мин) | G7: Время перемещения (мин) | H7: Протяжённость перемещения (м) | I7: Планировка рабочей зоны (добавить оборудование и мебель)
A9: | | B9: 1 | C9: 1-2 | D9: Житель | E9: - Житель выходит из квартиры → спускается в подъезд → смотрит доску объявлений (часто пусто или старая бумага). | F9: =[1]КПСЦ_ППР!I11 -> 5 | G9: 5 | H9: 70
A10: | | B10: 1 | C10: 2-3 | D10: Житель | E10: - Возвращается в квартиру → звонит диспетчеру (по телефону). | F10: =[1]КПСЦ_ППР!L11 -> 15 | G10: 5 | H10: 70
D11: Диспетчер | E11: - Диспетчер (на другом конце провода) — ищет информацию в бумажном журнале или в Excel (сидя за столом). | F11: =[1]КПСЦ_ППР!O11 -> 15
A12: | | B12: 1 | C12: 3-4 | D12: Житель | E12: - Если ответ не получен, житель идёт пешком/едет в офис УК (0.5–5 км). | F12: =[1]КПСЦ_ППР!R16 -> 40 | G12: 40 | H12: 5000
D13: Житель | E13: - В офисе — стоит в очереди, разговаривает с сотрудником. | F13: =[1]КПСЦ_ППР!T11 -> 10
A14: | | B14: 1 | C14: 4-5-6 | D14: Житель | E14: - Сотрудник обещает разобраться → житель возвращается домой. | F14: =[1]КПСЦ_ППР!X11 -> 60 | G14: 60 | H14: 5000
D15: Житель | E15: - Через несколько дней (нет ответа) — житель пишет жалобу в ГЖИ (через сайт или лично). | F15: =[1]КПСЦ_ППР!AB11 -> 60
D16: Специалист | E16: - ГЖИ направляет запрос в УК — цикл повторяется. | F16: =[1]КПСЦ_ППР!Z11 -> 60
D17: Специалист | E17: - цикл повторяется. | F17: =[1]КПСЦ_ППР!AB11 -> 60
A28: Суммарно: | F28: =SUM(F9:F27) -> 325 | G28: =SUM(G9:G27) -> 110 | H28: =SUM(H9:H27) -> 10000
A30: ПРОБЛЕМЫ
A32: 1 | B32: Поиск информации
A33: 2 | B33: Часто теряется информация
A34: 3 | B34: Пустые хождения к доске объявлений.
A35: 4 | B35: Длительное ожидание на телефонной линии.
A36: 5 | B36: Отсутствует актуальная информация
A37: 6 | B37: Ожидание ответа УК
A38: 7 | B38: Личный визит в офис УК (потеря времени жителя).
A39: 8 | B39: Жалобы, которые не решают проблему, а только создают дополнительную работу для всех сторон.
I40: Общее время цикла процесса (мин) | O40: Время всех перемещений в цикле (мин) | R40: Протяжённость всех перемещений (метрах)
A41: * - "палочный учет" - вносите за каждое перемещение по определенному маршруту в графу знак "|", количество знаков будет соответствовать количеству перемещений | I41: =F28 -> 325 | O41: =G28 -> 110 | R41: =H28 -> 10000
N44: Перейти к "Содержанию"

Sheet Спагетти_Пример_3
B1: ПРИМЕР 3
E2: Диаграмма Спагетти
A4: Рабочая зона: | E4: Офис-Объект №….п/п - Офис) | O4: Должность | P4: Инженер | S4: ФИО: | T4: Кривцов А.Н.
A5: Процесс: | E5: Выполнение ППР (Офис-Объект №….п/п - Офис) | O5: Дата: | P5: 46035
A7: Количество перемещений* | C7: Шаг | D7: Сотрудник | E7: Шаги процесса | F7: Время операции (мин) | G7: Время перемещения (мин) | H7: Протяжённость перемещения (м) | I7: Планировка рабочей зоны (добавить оборудование и мебель)
A9: |||||| | B9: 6 | C9: 1-2 | D9: Инженер | E9: - составляет Excel-план на ПК - распечатывает | F9: =КПСЦ_ППР!I11+КПСЦ_ППР!L11+КПСЦ_ППР!O11 -> 750 | G9: 4320 | H9: =B9*3*8 -> 144
A10: |||||| | B10: 6 | C10: 2-3 | D10: Инженер | E10: - кладёт в папку мастера. | H10: =B10*2*8 -> 96
A11: | | B11: 1 | C11: 1,2-3 | D11: Мастер | E11: - берёт папку из кабинета Инженера → переносит ее Диспетчеру | F11: =КПСЦ_ППР!R11 -> 90 | G11: 480 | H11: =15*6 -> 90
A12: ||||| | B12: 5 | C12: 3-4 | D12: Мастер | E12: - едет на объект №1 → выписывает задание в бумажный журнал (сидя в машине или в подъезде). | H12: =6*2000*5 -> 60000
A13: || | B13: 2 | C13: 4-5 | D13: Мастер | E13: - ищет слесаря на объекте (обходит здание) → передаёт задание устно. | H13: =B13*6*500 -> 6000
A14: | | B14: 1 | C14: 1-2 | D14: Слесарь | E14: - идет пешком на объект | F14: =КПСЦ_ППР!T11+КПСЦ_ППР!V11 -> 150 | G14: 960 | H14: =1500*B14 -> 1500
A15: |||||| | B15: 6 | C15: 2-3 | D15: Слесарь | E15: - выполняет работу - идёт к мастеру (если мастер на другом объекте, ждёт или звонит) - сообщает об устном завершении. | H15: =H13 -> 6000
A16: || | B16: 2 | C16: 5-6 | D16: Мастер | E16: - возвращается в офис - заносит отметку в бумажный журнал - журнал кладёт диспетчеру. | F16: =КПСЦ_ППР!X11 -> 30 | G16: 480 | H16: =1500*2 -> 3000
A17: ||||| | B17: 6 | C17: 1-2,3,4 | D17: Диспетчер | E17: - вручную перепечатывает данные из журнала в Excel-сводку-распечатывает - кладет в папку в кабинете Инженеру-возвращается на рабочее место | F17: =КПСЦ_ППР!Z11 -> 960 | G17: 1440 | H17: =B17*50*2*5 -> 3000
A18: | | B18: 1 | C18: 5-6-7 | D18: Диспетчер | E18: - формирует отчёт для жителей (текстовый документ) - распечатывает - передаёт мастеру-возвращается на рабочее место | H18: =2*5*25 -> 250
A19: ||||| | B19: 6 | C19: - | D19: Мастер | E19: - едет к каждому дому, вешает бумажный отчёт на доску объявлений. | F19: =КПСЦ_ППР!AB11 -> 480 | G19: 2400 | H19: =H12 -> 60000
A20: | | B20: 1 | C20: 1-2-3-4 | D20: Житель | E20: - спускается к доске (если повезёт, увидит отчёт) → не находит конкретной информации по своей квартире → идёт в офис УК или звонит. | F20: =КПСЦ_ППР!AD11 -> 10 | G20: 120 | H20: =B20*1500 -> 1500 | S20: РЕКЛИАЦИЯ (1 ЭТАЖ)
A42: Суммарно: | F42: =SUM(F9:F41) -> 2470 | G42: =SUM(G9:G41) -> 10200 | H42: =SUM(H9:H41) -> 141580
A44: ПРОБЛЕМЫ
A46: 1 | B46: Многократные перемещения мастера между офисом и объектами только для передачи бумаг.
A47: 2 | B47: Двойной ввод данных (бумага → Excel).
A48: 3 | B48: Отсутствие единой точки доступа для жителя.
A49: 4 | B49: Потеря заданий из-за устной передачи
F54: -проблемы | I54: Общее время цикла процесса (мин) | O54: Время всех перемещений в цикле (мин) | R54: Протяжённость всех перемещений (метрах)
A55: * - "палочный учет" - вносите за каждое перемещение по определенному маршруту в графу знак "|", количество знаков будет соответствовать количеству перемещений | I55: =F42 -> 2470 | O55: =G42 -> 10200 | R55: =H42 -> 141580
M58: Перейти к "Содержанию"

Sheet КПСЦ_ППР
Q1: Процесс: | R1: «Планирование и выполнение ППР»
I6: Инженер | L6: Инженер | O6: Инженер | R6: Мастер | T6: Слесарь | V6: Слесарь | X6: Мастер | Z6: Диспетчер | AB6: Мастер | AD6: Житель
F8: ВПП (Общее время процесса) | H8: дн | I8: 3-5 | J8: дней | L8: 2-3 | M8: дней | O8: 1 | P8: дней | R8: 1 | T8: 1 | V8: 1 | X8: 1 | Z8: 2-3 | AB8: 3-5 | AD8: 1
H9: час | I9: =5*8 -> 40 | L9: =3*8 -> 24 | O9: =1*8 -> 8 | P9: минут | R9: 8 | T9: 8 | V9: 8 | X9: 8 | Z9: =3*8 -> 24 | AB9: =5*8 -> 40 | AD9: 2
H10: мин. | I10: =I9*60 -> 2400 | L10: =L9*60 -> 1440 | O10: =O9*60 -> 480 | P10: минут | R10: =R9*60 -> 480 | T10: =T9*60 -> 480 | V10: =V9*60 -> 480 | X10: =X9*60 -> 480 | Z10: =Z9*60 -> 1440 | AB10: =AB9*60 -> 2400 | AD10: =AD9*60 -> 120
F11: Время операции | H11: мин. | I11: 240 | L11: 480 | M11: минут | O11: =30 -> 30 | P11: минут | R11: =6*15 -> 90 | T11: 60 | V11: 90 | X11: =6*5 -> 30 | Z11: =16*60 -> 960 | AB11: =8*60 -> 480 | AD11: 10
F12: Эффект.процесса | H12: % | I12: =I11/I10 -> 0.1 | L12: =L11/L10 -> 0.33333333 | O12: =O11/O10 -> 0.0625 | R12: =R11/R10 -> 0.1875 | T12: =T11/T10 -> 0.125 | V12: =V11/V10 -> 0.1875 | X12: =X11/X10 -> 0.0625 | Z12: =Z11/Z10 -> 0.66666667 | AB12: =AB11/AB10 -> 0.2 | AD12: =AD11/AD10 -> 0.083333333
F13: Потери | H13: % | I13: =1-(I11/I10) -> 0.9 | L13: =1-(L11/L10) -> 0.66666667 | O13: =1-(O11/O10) -> 0.9375 | R13: =1-R11/R10 -> 0.8125 | T13: =1-T11/T10 -> 0.875 | V13: =1-V11/V10 -> 0.8125 | X13: =1-X11/X10 -> 0.9375 | Z13: =1-Z11/Z10 -> 0.33333333 | AB13: =1-AB11/AB10 -> 0.8 | AD13: =1-AD11/AD10 -> 0.91666667
AF15: =SUM(I10:AD10) -> 10200 | AG15: мин. | AH15: ВПП (Общее время)
C16: Время операции | E16: мин. | I16: =I11 -> 240 | L16: =L11 -> 480 | O16: =O11 -> 30 | R16: =R11 -> 90 | T16: =T11 -> 60 | V16: =V11 -> 90 | X16: =X11 -> 30 | Z16: =Z11 -> 960 | AB16: =AB11 -> 480 | AD16: =AD11 -> 10 | AF16: =SUM(F16:AD16) -> 2470 | AG16: мин. | AH16: Время операции
C17: Потери | E17: мин. | G17: =I10-I11 -> 2160 | K17: =L10-L11 -> 960 | N17: =O10-O11 -> 450 | Q17: =R10-R11 -> 390 | S17: =R10-R11 -> 390 | U17: =V10-V11 -> 390 | W17: =X10-X11 -> 450 | Y17: =Z10-Z11 -> 480 | AA17: =AB10-AB11 -> 1920 | AC17: =AD10-AD11 -> 110 | AF17: =SUM(F17:AD17) -> 7700 | AG17: мин. | AH17: Потери
E18: % | AF18: =AF17/AF15 -> 0.75490196 | AG18: %
C21: Временные и качественные метрики на потоке (Процесс )
C22: Параметр | I22: Значение «ДО»
C23: Время планирования годового графика | I23: 5–9 дней ручной работы
C24: Время еженедельного распределения задач | I24: 30 мин × 52 = 26 часов/год
C25: Время сбора отчетности в месяц | I25: 2–5 дней (16–40 часов)
C26: Процент заданий, дошедших до исполнения (A) | I26: 0.6
C27: Процент выполненных в срок (P) | I27: 0.5
C28: Процент принятых с первого раза (Q) | I28: 0.7
C29: OIE | I29: 0.21
C30: Доля просроченных задач | I30: >30%
C31: Исполнительская дисциплина | I31: 40–50%

Sheet Чек-лист
A1: Чек-лист
A2: Чек-лист готовности Шага 07
A3: Перед тем как переходить к Шагу 08 (Карта текущего состояния), проверьте:
A4: № | B4: Проверочный вопрос | C4: Отметка
A5: 1 | B5: Я нанёс/(ла) планировку рабочей зоны на бланк. | C5: □
A6: 2 | B6: Я провёл/(а) наблюдение и нарисовал все перемещения сотрудника. | C6: □
A7: 3 | B7: В таблице заполнены все строки для каждого перемещения. | C7: □
A8: 4 | B8: Я измерил/(а) или рассчитал расстояние каждого перемещения. | C8: □
A9: 5 | B9: Я зафиксировал/(а) время каждого перемещения (или использовал данные из Шага 06). | C9: □
A10: 6 | B10: Я посчитал общее время и общее расстояние всех перемещений. | C10: □
A11: 7 | B11: Я выписал/(а) как минимум 3 проблемы, связанные с перемещениями. | C11: □
A12: 8 | B12: Я понимаю, как эти данные будут использованы в Карте текущего состояния (Шаг 08). | C12: □
A13: Готово! Теперь вы знаете, сколько и где сотрудник ходит лишнего.
C15: Перейти к "Содержанию"
